BEGIN:VCALENDAR
VERSION:2.0
PRODID:icalendar-ruby
CALSCALE:GREGORIAN
METHOD:PUBLISH
BEGIN:VEVENT
DTSTAMP:20260419T161932Z
UID:29-230540@thegardenlc.com
DTSTART:20260429T003000Z
DTEND:20260429T020000Z
CLASS:PUBLIC
CREATED:20260417T084143
DESCRIPTION:We’ve got a fun fundraising night coming up!  \nWe are host
 ing a Chick‑fil‑A Night\, and you’re invited to join us for a relaxe
 d evening with community\, great food\, and Bingo with prizes. Bring your 
 family\, bring a friend\, and come hang out with us!
LAST-MODIFIED:20260417T084143
LOCATION:1505 N Collins St\, Arlington\, TX 76011
SUMMARY:A Fun Fundraiser Night At Chick-fil-A
URL;VALUE=URI:https://www.thegardenlc.com/events/a-fun-fundraiser-night-at-
 chick-fil-a/2026-04-28
ATTACH;FILENAME=1000012997.png;FMTTYPE=image/png:https://dq5pwpg1q8ru0.clou
 dfront.net/2026/04/17/15/41/43/e895c792-4670-452b-af9e-41ca14fd7f8c/100001
 2997.png
END:VEVENT
END:VCALENDAR
